BEGIN:VCALENDAR
VERSION:2.0
PRODID:-//XP2P - ECPv5.5.0//NONSGML v1.0//EN
CALSCALE:GREGORIAN
METHOD:PUBLISH
X-WR-CALNAME:XP2P
X-ORIGINAL-URL:https://xp2p-project.eu
X-WR-CALDESC:Events for XP2P
BEGIN:VTIMEZONE
TZID:Europe/Paris
BEGIN:DAYLIGHT
TZOFFSETFROM:+0100
TZOFFSETTO:+0200
TZNAME:CEST
DTSTART:20220327T010000
END:DAYLIGHT
BEGIN:STANDARD
TZOFFSETFROM:+0200
TZOFFSETTO:+0100
TZNAME:CET
DTSTART:20221030T010000
END:STANDARD
END:VTIMEZONE
BEGIN:VEVENT
DTSTART;TZID=Europe/Paris:20220620T133000
DTEND;TZID=Europe/Paris:20220620T163000
DTSTAMP:20260425T125429
CREATED:20220404T072316Z
LAST-MODIFIED:20221013T152344Z
UID:999-1655731800-1655742600@xp2p-project.eu
SUMMARY:Evénement de dissémination - Nouvelles approches pédagogiques en mécatronique dans l'enseignement supérieur : retours d'expérience et perspectives (FR)
DESCRIPTION:Un événement en ligne\, en français\, sur l’apprentissage par les pairs\, l’apprentissage par projet\, l’e-portfolio et l’approche par compétences en mécatronique a eu lieu le 20 juin de 13h30 à 16h30 (heure de Paris) avec l’application Zoom. La participation à l’événement était gratuite et la langue de cet événement était le français.\nIl s’agissait de retours expérience\, d’échanges et de discussions ainsi que de l’intervention d’étudiants et d’enseignants et de la présentation d’exemples. \nLe programme est consultable ici. \nDepuis le 1er octobre 2022\, le lien est disponible sur demande par message à xp2p@univ-smb.fr. \nIl est possible de consulter les diaporamas de présentation des différents intervenants en utilisant les liens ci-dessous : \n\nIntroduction (Christine Galez – USMB)\nProjet Robocup (Camilo Hernandez\, USMB / vidéo)\nDéployer un e-portfolio dans l’ESR\, des expérimentations locales avec Karuta au passage à l’échelle ESR et + (Eric Giraudin – USMB)\nExpérience d’enseignant (Christine Galez – USMB)\n\nPour en savoir plus sur la gestion de vos données personnelles et pour exercer vos droits\, consultez notre politique RGPD ici. \n++++++++++++++++++++++++++++++++++++++++++++++++++++++++++++++++++++++++++++++++++++++++++++++++ \nAn online event\, in French\, on peer learning\, project-based learning\, e-portfolio and competence-based approach in Mechatronics took place on 20 June from 13.30 to 16.30 (Paris time) with the Zoom application. Participation in the event was free of charge and the language of the event was French.\nIt consisted of feedback\, exchanges and discussions as well as the intervention of students and teachers and the presentation of examples. \nThe programme is available here.  \nThe recording of the event is accessible here until 30 September 2022. From 1 October 2022\, the link will be available on request by message to xp2p@univ-smb.fr. \nThe slideshows of the various speakers can be consulted using the links below:  \n\nIntroduction (Christine Galez – USMB)\nRobocup project (Camilo Hernandez\, USMB / video)\nDeploying an e-portfolio in the ESR\, from local experimentations with Karuta to the ESR scale and beyond (Eric Giraudin – USMB)\nTeacher’s experience (Christine Galez – USMB)\n\nTo find out more about how we manage your personal data and to exercise your rights\, see our RGPD policy here.
URL:https://xp2p-project.eu/event/multiplier-event-presentation-and-discussion-around-the-first-results-of-the-project-fr/
LOCATION:USMB (remote)\, France
END:VEVENT
END:VCALENDAR